BEGIN:VCALENDAR
VERSION:2.0
PRODID:-//Aurore Voilqué - ECPv6.0.13.1//NONSGML v1.0//EN
CALSCALE:GREGORIAN
METHOD:PUBLISH
X-WR-CALNAME:Aurore Voilqué
X-ORIGINAL-URL:https://aurorevoilque.com
X-WR-CALDESC:évènements pour Aurore Voilqué
REFRESH-INTERVAL;VALUE=DURATION:PT1H
X-Robots-Tag:noindex
X-PUBLISHED-TTL:PT1H
BEGIN:VTIMEZONE
TZID:Europe/Paris
BEGIN:DAYLIGHT
TZOFFSETFROM:+0100
TZOFFSETTO:+0200
TZNAME:CEST
DTSTART:20250330T010000
END:DAYLIGHT
BEGIN:STANDARD
TZOFFSETFROM:+0200
TZOFFSETTO:+0100
TZNAME:CET
DTSTART:20251026T010000
END:STANDARD
END:VTIMEZONE
BEGIN:VEVENT
DTSTART;VALUE=DATE:20250816
DTEND;VALUE=DATE:20250817
DTSTAMP:20260422T165731
CREATED:20250603T132359Z
LAST-MODIFIED:20250804T153317Z
UID:5687-1755302400-1755388799@aurorevoilque.com
SUMMARY:Manouche music festival Mazeres 
DESCRIPTION:Au Festival Mazères en Ariège pour une « gypsy battle » imaginée par le programmateur Jean Louis Sorel. \nLe concept: guitaristes et violonistes gypsy et non gypsy qui se rencontrent sur scène pour des échanges virevoltants! \nAdrien Moignard Hugo Guezbar Noé Reinhardt Simba Baumgartner Steeve Laffont Rudy Rabuffetti Mathieu Chatelain Claudius Dupont Thomas Kretzschmar Paul Guta Costel Nitescu Drom Blanchard \n 
URL:https://aurorevoilque.com/event/manouche-music-festival-mazeres/
ATTACH;FMTTYPE=image/jpeg:https://aurorevoilque.com/wp-content/uploads/2020/06/4-JOURS.jpeg
END:VEVENT
END:VCALENDAR