BEGIN:VCALENDAR
VERSION:2.0
PRODID:-//Aurore Voilqué - ECPv6.0.13.1//NONSGML v1.0//EN
CALSCALE:GREGORIAN
METHOD:PUBLISH
X-WR-CALNAME:Aurore Voilqué
X-ORIGINAL-URL:https://aurorevoilque.com
X-WR-CALDESC:évènements pour Aurore Voilqué
REFRESH-INTERVAL;VALUE=DURATION:PT1H
X-Robots-Tag:noindex
X-PUBLISHED-TTL:PT1H
BEGIN:VTIMEZONE
TZID:Europe/Paris
BEGIN:DAYLIGHT
TZOFFSETFROM:+0100
TZOFFSETTO:+0200
TZNAME:CEST
DTSTART:20250330T010000
END:DAYLIGHT
BEGIN:STANDARD
TZOFFSETFROM:+0200
TZOFFSETTO:+0100
TZNAME:CET
DTSTART:20251026T010000
END:STANDARD
END:VTIMEZONE
BEGIN:VEVENT
DTSTART;VALUE=DATE:20250607
DTEND;VALUE=DATE:20250608
DTSTAMP:20260422T024536
CREATED:20250603T113848Z
LAST-MODIFIED:20250603T113904Z
UID:5616-1749254400-1749340799@aurorevoilque.com
SUMMARY:Festival Happy swing day à Amponville (77)
DESCRIPTION:Toute une journée et soirée de swing. J’y serai avec opus 4 à 20h30 \n  \n 
URL:https://aurorevoilque.com/event/festival-happy-swing-day-a-amponville-77/
ATTACH;FMTTYPE=image/jpeg:https://aurorevoilque.com/wp-content/uploads/2025/06/HAPPY.jpeg
END:VEVENT
END:VCALENDAR