BEGIN:VCALENDAR
VERSION:2.0
PRODID:-//Aurore Voilqué - ECPv6.0.13.1//NONSGML v1.0//EN
CALSCALE:GREGORIAN
METHOD:PUBLISH
X-WR-CALNAME:Aurore Voilqué
X-ORIGINAL-URL:https://aurorevoilque.com
X-WR-CALDESC:évènements pour Aurore Voilqué
REFRESH-INTERVAL;VALUE=DURATION:PT1H
X-Robots-Tag:noindex
X-PUBLISHED-TTL:PT1H
BEGIN:VTIMEZONE
TZID:Europe/Paris
BEGIN:DAYLIGHT
TZOFFSETFROM:+0100
TZOFFSETTO:+0200
TZNAME:CEST
DTSTART:20230326T010000
END:DAYLIGHT
BEGIN:STANDARD
TZOFFSETFROM:+0200
TZOFFSETTO:+0100
TZNAME:CET
DTSTART:20231029T010000
END:STANDARD
END:VTIMEZONE
BEGIN:VEVENT
DTSTART;VALUE=DATE:20230623
DTEND;VALUE=DATE:20230624
DTSTAMP:20260422T091208
CREATED:20230313T204835Z
LAST-MODIFIED:20230313T204835Z
UID:4369-1687478400-1687564799@aurorevoilque.com
SUMMARY:Festival Django Reinhardt Fontainebleau
DESCRIPTION:Je me produirai au sein du trio de Dejan Krsmanovic venant tout droit de Serbie. \nJe les ai découvert lors de notre passage au Festival Django fest Budapest en 2022 et j’avais apprécié la couleur balkanique de leur jeu.  \nTrès heureuse de fouler pour la deuxieme fois la scène de ce très beau festival. \nhttps://www.festivaldjangoreinhardt.com/programmation/
URL:https://aurorevoilque.com/event/festival-django-reinhardt-fontainebleau/
ATTACH;FMTTYPE=image/jpeg:https://aurorevoilque.com/wp-content/uploads/2023/03/Festival-Django-Reinhartdt-2023-carre-Dejan-Krsmanovic-Balkan-Gypsy-Trio-feat-Aurore-Voilque.jpg
END:VEVENT
END:VCALENDAR