BEGIN:VCALENDAR
VERSION:2.0
PRODID:-//Aurore Voilqué - ECPv6.0.13.1//NONSGML v1.0//EN
CALSCALE:GREGORIAN
METHOD:PUBLISH
X-WR-CALNAME:Aurore Voilqué
X-ORIGINAL-URL:https://aurorevoilque.com
X-WR-CALDESC:évènements pour Aurore Voilqué
REFRESH-INTERVAL;VALUE=DURATION:PT1H
X-Robots-Tag:noindex
X-PUBLISHED-TTL:PT1H
BEGIN:VTIMEZONE
TZID:Europe/Paris
BEGIN:DAYLIGHT
TZOFFSETFROM:+0100
TZOFFSETTO:+0200
TZNAME:CEST
DTSTART:20250330T010000
END:DAYLIGHT
BEGIN:STANDARD
TZOFFSETFROM:+0200
TZOFFSETTO:+0100
TZNAME:CET
DTSTART:20251026T010000
END:STANDARD
END:VTIMEZONE
BEGIN:VEVENT
DTSTART;VALUE=DATE:20250613
DTEND;VALUE=DATE:20250614
DTSTAMP:20260421T232432
CREATED:20250603T114829Z
LAST-MODIFIED:20250603T114829Z
UID:5623-1749772800-1749859199@aurorevoilque.com
SUMMARY:Festival des 2 rivières (77)
DESCRIPTION:Avec Thomas Dutronc à La Ferté sous Jouarre (77) \n 
URL:https://aurorevoilque.com/event/festival-des-2-rivieres-77/
ATTACH;FMTTYPE=image/jpeg:https://aurorevoilque.com/wp-content/uploads/2020/06/8BBF20BB-A1A5-441C-B0DA-4E351C2BF107.jpg
END:VEVENT
END:VCALENDAR