BEGIN:VCALENDAR
VERSION:2.0
PRODID:-//Aurore Voilqué - ECPv6.0.13.1//NONSGML v1.0//EN
CALSCALE:GREGORIAN
METHOD:PUBLISH
X-WR-CALNAME:Aurore Voilqué
X-ORIGINAL-URL:https://aurorevoilque.com
X-WR-CALDESC:évènements pour Aurore Voilqué
REFRESH-INTERVAL;VALUE=DURATION:PT1H
X-Robots-Tag:noindex
X-PUBLISHED-TTL:PT1H
BEGIN:VTIMEZONE
TZID:Europe/Paris
BEGIN:DAYLIGHT
TZOFFSETFROM:+0100
TZOFFSETTO:+0200
TZNAME:CEST
DTSTART:20250330T010000
END:DAYLIGHT
BEGIN:STANDARD
TZOFFSETFROM:+0200
TZOFFSETTO:+0100
TZNAME:CET
DTSTART:20251026T010000
END:STANDARD
END:VTIMEZONE
BEGIN:VEVENT
DTSTART;VALUE=DATE:20250721
DTEND;VALUE=DATE:20250722
DTSTAMP:20260422T021530
CREATED:20250603T130748Z
LAST-MODIFIED:20250701T125651Z
UID:5658-1753056000-1753142399@aurorevoilque.com
SUMMARY:Festival de la guitare Patrimonio
DESCRIPTION:Avec Thomas Dutronc Patrimonio Corse
URL:https://aurorevoilque.com/event/festival-de-la-guitare-patrimonio/
ATTACH;FMTTYPE=image/jpeg:https://aurorevoilque.com/wp-content/uploads/2020/06/IMG_9047.jpg
END:VEVENT
END:VCALENDAR