BEGIN:VCALENDAR
VERSION:2.0
PRODID:-//Aurore Voilqué - ECPv6.0.13.1//NONSGML v1.0//EN
CALSCALE:GREGORIAN
METHOD:PUBLISH
X-WR-CALNAME:Aurore Voilqué
X-ORIGINAL-URL:https://aurorevoilque.com
X-WR-CALDESC:évènements pour Aurore Voilqué
REFRESH-INTERVAL;VALUE=DURATION:PT1H
X-Robots-Tag:noindex
X-PUBLISHED-TTL:PT1H
BEGIN:VTIMEZONE
TZID:Europe/Paris
BEGIN:DAYLIGHT
TZOFFSETFROM:+0100
TZOFFSETTO:+0200
TZNAME:CEST
DTSTART:20250330T010000
END:DAYLIGHT
BEGIN:STANDARD
TZOFFSETFROM:+0200
TZOFFSETTO:+0100
TZNAME:CET
DTSTART:20251026T010000
END:STANDARD
END:VTIMEZONE
BEGIN:VEVENT
DTSTART;VALUE=DATE:20250830
DTEND;VALUE=DATE:20250831
DTSTAMP:20260422T224456
CREATED:20250603T132357Z
LAST-MODIFIED:20250804T153706Z
UID:5690-1756512000-1756598399@aurorevoilque.com
SUMMARY:Duc des Lombards Paris
DESCRIPTION:Aurore Voilqué quintet Julie Saury Fabricio Nicolas Garcia Sebastien Giniaux Joris Viquesnel
URL:https://aurorevoilque.com/event/duc-des-lombards-paris/
LOCATION:duc des lombards\, 42 rue des lombards\, Paris\, 75001\, France
ATTACH;FMTTYPE=image/jpeg:https://aurorevoilque.com/wp-content/uploads/2025/06/DUC_INSTA_08_09_2025_AURORE_VOILQUE_V01.jpg
END:VEVENT
END:VCALENDAR